BEGIN:VCALENDAR
VERSION:2.0
PRODID:-//Sophicity/Tribune/Berkeley Lake, GA
BEGIN:VEVENT
DTSTAMP:20260426T012624Z
UID:46c3333a-fe36-42a7-a970-cea612c3453b-4036
DTSTART:20210517T230000Z
DTEND:20210518T000000Z
LOCATION:City Hall
CLASS:PUBLIC
SUMMARY:Special Called Council Meeting 7PM
END:VEVENT
END:VCALENDAR
