BEGIN:VCALENDAR
VERSION:2.0
PRODID:-//Sophicity/Tribune/Berkeley Lake, GA
BEGIN:VEVENT
DTSTAMP:20260426T000017Z
UID:46c3333a-fe36-42a7-a970-cea612c3453b-4035
DTSTART:20210413T231500Z
DTEND:20210413T231500Z
LOCATION:City Hall
CLASS:PUBLIC
SUMMARY:Planning and Zoning Meeting 7:15 PM  (1)
END:VEVENT
END:VCALENDAR
