BEGIN:VCALENDAR
VERSION:2.0
PRODID:-//Sophicity/Tribune/Berkeley Lake, GA
BEGIN:VEVENT
DTSTAMP:20260426T030239Z
UID:46c3333a-fe36-42a7-a970-cea612c3453b-4033
DTSTART:20210224T001500Z
DTEND:20210224T011500Z
LOCATION:City Hall
CLASS:PUBLIC
SUMMARY:2/23 Council Meeting 7:15PM 
END:VEVENT
END:VCALENDAR
