BEGIN:VCALENDAR
VERSION:2.0
PRODID:-//Sophicity/Tribune/Berkeley Lake, GA
BEGIN:VEVENT
DTSTAMP:20260426T013510Z
UID:46c3333a-fe36-42a7-a970-cea612c3453b-4024
DTSTART:20210521T000000Z
DTEND:20210521T004500Z
LOCATION:City Hall
CLASS:PUBLIC
SUMMARY:5/20 Council Meeting 8PM
END:VEVENT
END:VCALENDAR
