BEGIN:VCALENDAR
VERSION:2.0
PRODID:-//Sophicity/Tribune/Berkeley Lake, GA
BEGIN:VEVENT
DTSTAMP:20260426T000047Z
UID:46c3333a-fe36-42a7-a970-cea612c3453b-4023
DTSTART:20210416T000000Z
DTEND:20210416T004500Z
LOCATION:City Hall
CLASS:PUBLIC
SUMMARY:4/15 Council Meeting 8PM
END:VEVENT
END:VCALENDAR
