BEGIN:VCALENDAR
VERSION:2.0
PRODID:-//Sophicity/Tribune/Berkeley Lake, GA
BEGIN:VEVENT
DTSTAMP:20260426T030318Z
UID:46c3333a-fe36-42a7-a970-cea612c3453b-4009
DTSTART:20210219T000000Z
DTEND:20210219T004500Z
LOCATION:City Hall
CLASS:PUBLIC
SUMMARY:2/18 Council Work Session 7PM
END:VEVENT
END:VCALENDAR
