BEGIN:VCALENDAR
VERSION:2.0
PRODID:-//Sophicity/Tribune/Berkeley Lake, GA
BEGIN:VEVENT
DTSTAMP:20260425T222318Z
UID:46c3333a-fe36-42a7-a970-cea612c3453b-4004
DTSTART:20230321T231500Z
DTEND:20230321T231500Z
LOCATION:City Hall
CLASS:PUBLIC
SUMMARY:Special Called Planning and Zoning Meeting 7:15 PM 
END:VEVENT
END:VCALENDAR
