BEGIN:VCALENDAR
VERSION:2.0
PRODID:-//Sophicity/Tribune/Berkeley Lake, GA
BEGIN:VEVENT
DTSTAMP:20260426T000017Z
UID:46c3333a-fe36-42a7-a970-cea612c3453b-4002
DTSTART:20251111T050100Z
DTEND:20251112T045900Z
CLASS:PUBLIC
SUMMARY:Veterans Day - City Hall Closed 
END:VEVENT
END:VCALENDAR
