BEGIN:VCALENDAR
VERSION:2.0
PRODID:-//Sophicity/Tribune/Berkeley Lake, GA
BEGIN:VEVENT
DTSTAMP:20260425T205245Z
UID:46c3333a-fe36-42a7-a970-cea612c3453b-3995
DTSTART:20260116T010000Z
DTEND:20260116T014500Z
LOCATION:City Hall
CLASS:PUBLIC
SUMMARY:1/15 Council Meeting 8PM
END:VEVENT
END:VCALENDAR
