BEGIN:VCALENDAR
VERSION:2.0
PRODID:-//Sophicity/Tribune/Berkeley Lake, GA
BEGIN:VEVENT
DTSTAMP:20260425T205042Z
UID:46c3333a-fe36-42a7-a970-cea612c3453b-3989
DTSTART:20260116T000000Z
DTEND:20260116T004500Z
LOCATION:City Hall
CLASS:PUBLIC
SUMMARY:1/15 Council Work Session 7PM
END:VEVENT
END:VCALENDAR
