BEGIN:VCALENDAR
VERSION:2.0
PRODID:-//Sophicity/Tribune/Berkeley Lake, GA
BEGIN:VEVENT
DTSTAMP:20260426T042719Z
UID:46c3333a-fe36-42a7-a970-cea612c3453b-3983
DTSTART:20200703T040100Z
DTEND:20200704T035900Z
LOCATION:City Hall
CLASS:PUBLIC
SUMMARY:Independence Day Observed - City Hall Closed
END:VEVENT
END:VCALENDAR
