BEGIN:VCALENDAR
VERSION:2.0
PRODID:-//Sophicity/Tribune/Berkeley Lake, GA
BEGIN:VEVENT
DTSTAMP:20260426T013509Z
UID:46c3333a-fe36-42a7-a970-cea612c3453b-3974
DTSTART:20200416T230000Z
DTEND:20200416T234500Z
LOCATION:City Hall
CLASS:PUBLIC
SUMMARY:Council Work Session 7PM
END:VEVENT
END:VCALENDAR
