BEGIN:VCALENDAR
VERSION:2.0
PRODID:-//Sophicity/Tribune/Berkeley Lake, GA
BEGIN:VEVENT
DTSTAMP:20260426T030257Z
UID:46c3333a-fe36-42a7-a970-cea612c3453b-3968
DTSTART:20200314T143000Z
DTEND:20200314T143000Z
LOCATION:City Hall
CLASS:PUBLIC
SUMMARY:CANCELED: BLC Education Program
END:VEVENT
END:VCALENDAR
