BEGIN:VCALENDAR
VERSION:2.0
PRODID:-//Sophicity/Tribune/Berkeley Lake, GA
BEGIN:VEVENT
DTSTAMP:20260426T030257Z
UID:46c3333a-fe36-42a7-a970-cea612c3453b-3960
DTSTART:20200310T231500Z
DTEND:20200310T231500Z
LOCATION:City Hall
CLASS:PUBLIC
SUMMARY:Planning and Zoning Meeting 715PM
END:VEVENT
END:VCALENDAR
