BEGIN:VCALENDAR
VERSION:2.0
PRODID:-//Sophicity/Tribune/Berkeley Lake, GA
BEGIN:VEVENT
DTSTAMP:20260426T030257Z
UID:46c3333a-fe36-42a7-a970-cea612c3453b-3922
DTSTART:20190419T000000Z
DTEND:20190419T004500Z
LOCATION:City Hall
CLASS:PUBLIC
SUMMARY:Council Meeting 8PM
END:VEVENT
END:VCALENDAR
