BEGIN:VCALENDAR
VERSION:2.0
PRODID:-//Sophicity/Tribune/Berkeley Lake, GA
BEGIN:VEVENT
DTSTAMP:20260426T030425Z
UID:46c3333a-fe36-42a7-a970-cea612c3453b-3921
DTSTART:20200329T030000Z
DTEND:20200329T034500Z
LOCATION:City Hall
CLASS:PUBLIC
SUMMARY:Special Called Council Meeting 11AM
END:VEVENT
END:VCALENDAR
