BEGIN:VCALENDAR
VERSION:2.0
PRODID:-//Sophicity/Tribune/Berkeley Lake, GA
BEGIN:VEVENT
DTSTAMP:20260426T030257Z
UID:46c3333a-fe36-42a7-a970-cea612c3453b-3910
DTSTART:20190418T230000Z
DTEND:20190418T234500Z
CLASS:PUBLIC
SUMMARY:Council Work Session 7PM
END:VEVENT
END:VCALENDAR
