BEGIN:VCALENDAR
VERSION:2.0
PRODID:-//Sophicity/Tribune/Berkeley Lake, GA
BEGIN:VEVENT
DTSTAMP:20260425T160615Z
UID:46c3333a-fe36-42a7-a970-cea612c3453b-3892
DTSTART:20260525T040000Z
DTEND:20260526T035900Z
CLASS:PUBLIC
SUMMARY:Memorial Day - City Hall Closed
END:VEVENT
END:VCALENDAR
