BEGIN:VCALENDAR
VERSION:2.0
PRODID:-//Sophicity/Tribune/Berkeley Lake, GA
BEGIN:VEVENT
DTSTAMP:20260425T205042Z
UID:46c3333a-fe36-42a7-a970-cea612c3453b-3891
DTSTART:20260119T050000Z
DTEND:20260120T045900Z
CLASS:PUBLIC
SUMMARY:Martin Luther King, Jr. Day - City Hall Closed
END:VEVENT
END:VCALENDAR
