BEGIN:VCALENDAR
VERSION:2.0
PRODID:-//Sophicity/Tribune/Berkeley Lake, GA
BEGIN:VEVENT
DTSTAMP:20260426T042727Z
UID:46c3333a-fe36-42a7-a970-cea612c3453b-3853
DTSTART:20180420T000000Z
DTEND:20180420T000000Z
LOCATION:City Hall
CLASS:PUBLIC
SUMMARY:Council Meeting 4/19/2018
END:VEVENT
END:VCALENDAR
